BEGIN:VCALENDAR
VERSION:2.0
PRODID:-//IEAPS - ECPv6.15.20//NONSGML v1.0//EN
CALSCALE:GREGORIAN
METHOD:PUBLISH
X-WR-CALNAME:IEAPS
X-ORIGINAL-URL:https://philcodeglobal.com
X-WR-CALDESC:Events for IEAPS
REFRESH-INTERVAL;VALUE=DURATION:PT1H
X-Robots-Tag:noindex
X-PUBLISHED-TTL:PT1H
BEGIN:VTIMEZONE
TZID:UTC
BEGIN:STANDARD
TZOFFSETFROM:+0000
TZOFFSETTO:+0000
TZNAME:UTC
DTSTART:20250101T000000
END:STANDARD
END:VTIMEZONE
BEGIN:VEVENT
DTSTART;TZID=UTC:20260730T000000
DTEND;TZID=UTC:20260730T235959
DTSTAMP:20260422T085158
CREATED:20260419T112148Z
LAST-MODIFIED:20260419T113650Z
UID:20-1785369600-1785455999@philcodeglobal.com
SUMMARY:IEAPS - International Education Agents & Partnership Summit 2026
DESCRIPTION:Register and participate in the maiden edition of event for all education agents in Ghana and the world at large.
URL:https://philcodeglobal.com/event/ieaps-international-education-agents-partnership-summit-2026/
ORGANIZER;CN="IEAPS - International Education Agents & Partnership Summit 2026":MAILTO:info@philcodeglobal.com
END:VEVENT
END:VCALENDAR